BEGIN:VCALENDAR
VERSION:2.0
PRODID:-//Esport Adaptat | FCEDF - ECPv5.1.2.1//NONSGML v1.0//EN
CALSCALE:GREGORIAN
METHOD:PUBLISH
X-WR-CALNAME:Esport Adaptat | FCEDF
X-ORIGINAL-URL:https://esportadaptat.org
X-WR-CALDESC:Events for Esport Adaptat | FCEDF
BEGIN:VTIMEZONE
TZID:UTC
BEGIN:STANDARD
TZOFFSETFROM:+0000
TZOFFSETTO:+0000
TZNAME:UTC
DTSTART:20260101T000000
END:STANDARD
END:VTIMEZONE
BEGIN:VEVENT
DTSTART;TZID=UTC:20260530T160000
DTEND;TZID=UTC:20260531T160000
DTSTAMP:20260421T125712
CREATED:20260415T173008Z
LAST-MODIFIED:20260415T173008Z
UID:19934-1780156800-1780243200@esportadaptat.org
SUMMARY:XVIII Jocs Catalans
DESCRIPTION:El cap de setmana del 30 i 31 de maig es portaran a terme diferents competicions d’esports adaptats a les instal.lacions del Club Natació Terrassa (excepte la competició de petanca). La piscina del Club acollirà el Trofeu Jocs Catalans de natació adaptada i els playoffs de la Lliga Catalana de waterpolo. El bàsquet en cadira de rodes serà el gran protagonista dins del Pavelló del Club on també es portaran a terme altres competicions esportives. A més\, també es portaran a terme diferents activitats de promoció de l’esport adaptat durant tot el cap de setmana. \n
URL:https://esportadaptat.org/calendari/xviii-jocs-catalans/
CATEGORIES:Bàsquet,Natació,Petanca,Waterpolo
ATTACH;FMTTYPE=image/jpeg:https://esportadaptat.org/wp-content/uploads/2026/04/20260415-jocs.jpg
ORGANIZER;CN="FCEDF":MAILTO:info@esportadaptat.cat
END:VEVENT
END:VCALENDAR