BEGIN:VCALENDAR
VERSION:2.0
PRODID:-//Esport Adaptat | FCEDF - ECPv5.1.2.1//NONSGML v1.0//EN
CALSCALE:GREGORIAN
METHOD:PUBLISH
X-WR-CALNAME:Esport Adaptat | FCEDF
X-ORIGINAL-URL:https://esportadaptat.org
X-WR-CALDESC:Events for Esport Adaptat | FCEDF
BEGIN:VTIMEZONE
TZID:UTC
BEGIN:STANDARD
TZOFFSETFROM:+0000
TZOFFSETTO:+0000
TZNAME:UTC
DTSTART:20160101T000000
END:STANDARD
END:VTIMEZONE
BEGIN:VEVENT
DTSTART;VALUE=DATE:20160903
DTEND;VALUE=DATE:20160904
DTSTAMP:20260422T104105
CREATED:20160726T153440Z
LAST-MODIFIED:20160726T153813Z
UID:10111-1472860800-1472947199@esportadaptat.org
SUMMARY:Supercopa BCR al 32è Torneig BBVA de Bàsquet
DESCRIPTION:SuperCopa de bàsquet en cadira de rodes entre el guanyador de la LLiga Catalana (Global Bàsquet) i el sots-campió de la Copa disputada durant els IX Jocs Catalans (UNES FCBarcelona) ja que el campió va ser també el club Global Bàsquet. \n
URL:https://esportadaptat.org/calendari/supercopa-bcr-al-32e-torneig-bbva-de-basquet/
LOCATION:Sant Julià de Vilatorta\, Sant Julià de Vilatorta \, 08504\, España
CATEGORIES:Bàsquet
ATTACH;FMTTYPE=image/jpeg:https://esportadaptat.org/wp-content/uploads/2016/07/2015.9.6-bbva.jpg
END:VEVENT
END:VCALENDAR