BEGIN:VCALENDAR
VERSION:2.0
PRODID:-//Esport Adaptat | FCEDF - ECPv5.1.2.1//NONSGML v1.0//EN
CALSCALE:GREGORIAN
METHOD:PUBLISH
X-WR-CALNAME:Esport Adaptat | FCEDF
X-ORIGINAL-URL:https://esportadaptat.org
X-WR-CALDESC:Events for Esport Adaptat | FCEDF
BEGIN:VTIMEZONE
TZID:UTC
BEGIN:STANDARD
TZOFFSETFROM:+0000
TZOFFSETTO:+0000
TZNAME:UTC
DTSTART:20250101T000000
END:STANDARD
END:VTIMEZONE
BEGIN:VEVENT
DTSTART;TZID=UTC:20250302T120000
DTEND;TZID=UTC:20250302T140000
DTSTAMP:20260422T104212
CREATED:20250226T100650Z
LAST-MODIFIED:20250226T100650Z
UID:18868-1740916800-1740924000@esportadaptat.org
SUMMARY:Partit ajornat Lliga Catalana BCR N2
DESCRIPTION:Partit ajornat de la Lliga Catalana BCR N2 corresponent a la tercera jornada entre CB MIFAS vs CB Granollers \n
URL:https://esportadaptat.org/calendari/partit-ajornat-lliga-catalana-bcr-n2/
CATEGORIES:Bàsquet
ATTACH;FMTTYPE=image/jpeg:https://esportadaptat.org/wp-content/uploads/2024/10/20241008-bcr.jpg
ORGANIZER;CN="FCEDF":MAILTO:info@esportadaptat.cat
END:VEVENT
END:VCALENDAR