BEGIN:VCALENDAR
VERSION:2.0
PRODID:-//Esport Adaptat | FCEDF - ECPv5.1.2.1//NONSGML v1.0//EN
CALSCALE:GREGORIAN
METHOD:PUBLISH
X-WR-CALNAME:Esport Adaptat | FCEDF
X-ORIGINAL-URL:https://esportadaptat.org
X-WR-CALDESC:Events for Esport Adaptat | FCEDF
BEGIN:VTIMEZONE
TZID:Europe/Paris
BEGIN:DAYLIGHT
TZOFFSETFROM:+0100
TZOFFSETTO:+0200
TZNAME:CEST
DTSTART:20160327T010000
END:DAYLIGHT
BEGIN:STANDARD
TZOFFSETFROM:+0200
TZOFFSETTO:+0100
TZNAME:CET
DTSTART:20161030T010000
END:STANDARD
END:VTIMEZONE
BEGIN:VEVENT
DTSTART;VALUE=DATE:20161003
DTEND;VALUE=DATE:20161005
DTSTAMP:20260420T035711
CREATED:20160713T121502Z
LAST-MODIFIED:20160916T074359Z
UID:10028-1475452800-1475625599@esportadaptat.org
SUMMARY:Campionat Catalunya Round 900
DESCRIPTION:Campionat Catalunya Round 900 que es disputa el dia 3 i 4 d’octubre \n
URL:https://esportadaptat.org/calendari/paralympic-games-brasil-2/
LOCATION:Montjuic\, Barcelona\, Barcelona\, España
CATEGORIES:Tir amb arc
ATTACH;FMTTYPE=image/jpeg:https://esportadaptat.org/wp-content/uploads/2016/12/setembre-e1468412213466.jpg
ORGANIZER;CN="FCEDF":MAILTO:info@esportadaptat.cat
END:VEVENT
END:VCALENDAR