BEGIN:VCALENDAR
VERSION:2.0
PRODID:-//Esport Adaptat | FCEDF - ECPv5.1.2.1//NONSGML v1.0//EN
CALSCALE:GREGORIAN
METHOD:PUBLISH
X-WR-CALNAME:Esport Adaptat | FCEDF
X-ORIGINAL-URL:https://esportadaptat.org
X-WR-CALDESC:Events for Esport Adaptat | FCEDF
BEGIN:VTIMEZONE
TZID:UTC
BEGIN:STANDARD
TZOFFSETFROM:+0000
TZOFFSETTO:+0000
TZNAME:UTC
DTSTART:20240101T000000
END:STANDARD
END:VTIMEZONE
BEGIN:VEVENT
DTSTART;TZID=UTC:20240126T160000
DTEND;TZID=UTC:20240126T190000
DTSTAMP:20260423T201755
CREATED:20240126T124701Z
LAST-MODIFIED:20240126T124701Z
UID:18067-1706284800-1706295600@esportadaptat.org
SUMMARY:Natació – 3a Jornada Lliga Catalana
DESCRIPTION:
URL:https://esportadaptat.org/calendari/natacio-3a-jornada-lliga-catalana/
LOCATION:CN Sabadell\, Can Llong
END:VEVENT
END:VCALENDAR