BEGIN:VCALENDAR
VERSION:2.0
PRODID:-//Esport Adaptat | FCEDF - ECPv5.1.2.1//NONSGML v1.0//EN
CALSCALE:GREGORIAN
METHOD:PUBLISH
X-WR-CALNAME:Esport Adaptat | FCEDF
X-ORIGINAL-URL:https://esportadaptat.org
X-WR-CALDESC:Events for Esport Adaptat | FCEDF
BEGIN:VTIMEZONE
TZID:UTC
BEGIN:STANDARD
TZOFFSETFROM:+0000
TZOFFSETTO:+0000
TZNAME:UTC
DTSTART:20260101T000000
END:STANDARD
END:VTIMEZONE
BEGIN:VEVENT
DTSTART;TZID=UTC:20260704T100000
DTEND;TZID=UTC:20260704T170000
DTSTAMP:20260421T142329
CREATED:20260421T111043Z
LAST-MODIFIED:20260421T111251Z
UID:19950-1783159200-1783184400@esportadaptat.org
SUMMARY:NAT - Travessia Nedant Torredembarra
DESCRIPTION:26a Travessia Nedant Torredembarra – Memorial Fermí Morera \n \n
URL:https://esportadaptat.org/calendari/nat-travessia-nedant-torredembarra/
CATEGORIES:Natació
ATTACH;FMTTYPE=image/png:https://esportadaptat.org/wp-content/uploads/2026/04/Captura-de-pantalla-2026-04-21-130739.png
END:VEVENT
END:VCALENDAR