BEGIN:VCALENDAR
VERSION:2.0
PRODID:-//Esport Adaptat | FCEDF - ECPv5.1.2.1//NONSGML v1.0//EN
CALSCALE:GREGORIAN
METHOD:PUBLISH
X-WR-CALNAME:Esport Adaptat | FCEDF
X-ORIGINAL-URL:https://esportadaptat.org
X-WR-CALDESC:Events for Esport Adaptat | FCEDF
BEGIN:VTIMEZONE
TZID:UTC
BEGIN:STANDARD
TZOFFSETFROM:+0000
TZOFFSETTO:+0000
TZNAME:UTC
DTSTART:20250101T000000
END:STANDARD
END:VTIMEZONE
BEGIN:VEVENT
DTSTART;TZID=UTC:20251122T170000
DTEND;TZID=UTC:20251122T200000
DTSTAMP:20260421T201225
CREATED:20251021T090934Z
LAST-MODIFIED:20251121T104541Z
UID:19506-1763830800-1763841600@esportadaptat.org
SUMMARY:Lliga Catalana de Natació Adaptada - 1a Jornada
DESCRIPTION:Centre Natació Mataró\nPasseig Marítim\, 92\, 08302 Mataró\, Barcelona \n \n
URL:https://esportadaptat.org/calendari/lliga-catalana-de-natacio-adaptada-1a-jornada/
CATEGORIES:Natació
END:VEVENT
END:VCALENDAR