BEGIN:VCALENDAR
VERSION:2.0
PRODID:-//Esport Adaptat | FCEDF - ECPv5.1.2.1//NONSGML v1.0//EN
CALSCALE:GREGORIAN
METHOD:PUBLISH
X-WR-CALNAME:Esport Adaptat | FCEDF
X-ORIGINAL-URL:https://esportadaptat.org
X-WR-CALDESC:Events for Esport Adaptat | FCEDF
BEGIN:VTIMEZONE
TZID:UTC
BEGIN:STANDARD
TZOFFSETFROM:+0000
TZOFFSETTO:+0000
TZNAME:UTC
DTSTART:20240101T000000
END:STANDARD
END:VTIMEZONE
BEGIN:VEVENT
DTSTART;TZID=UTC:20240121T160000
DTEND;TZID=UTC:20240121T180000
DTSTAMP:20260423T222138
CREATED:20231128T100950Z
LAST-MODIFIED:20231128T100950Z
UID:17959-1705852800-1705860000@esportadaptat.org
SUMMARY:Lliga BCR N2 - CB Ciutat d'Inca vs CB Granollers
DESCRIPTION:
URL:https://esportadaptat.org/calendari/lliga-bcr-n2-cb-ciutat-dinca-vs-cb-granollers/
END:VEVENT
END:VCALENDAR