BEGIN:VCALENDAR
VERSION:2.0
PRODID:-//Esport Adaptat | FCEDF - ECPv5.1.2.1//NONSGML v1.0//EN
CALSCALE:GREGORIAN
METHOD:PUBLISH
X-WR-CALNAME:Esport Adaptat | FCEDF
X-ORIGINAL-URL:https://esportadaptat.org
X-WR-CALDESC:Events for Esport Adaptat | FCEDF
BEGIN:VTIMEZONE
TZID:UTC
BEGIN:STANDARD
TZOFFSETFROM:+0000
TZOFFSETTO:+0000
TZNAME:UTC
DTSTART:20240101T000000
END:STANDARD
END:VTIMEZONE
BEGIN:VEVENT
DTSTART;TZID=UTC:20240225T120000
DTEND;TZID=UTC:20240225T143000
DTSTAMP:20260423T174734
CREATED:20240126T122517Z
LAST-MODIFIED:20240126T122808Z
UID:18040-1708862400-1708871400@esportadaptat.org
SUMMARY:Lliga BCR N2 –  CB Ciutat D'Inca-Asnimo vs Coproració Fisiogestión CB Roser
DESCRIPTION:
URL:https://esportadaptat.org/calendari/lliga-bcr-n2-cb-ciutat-dinca-asnimo-vs-coproracio-fisiogestion-cb-roser/
END:VEVENT
END:VCALENDAR