BEGIN:VCALENDAR
VERSION:2.0
PRODID:-//Esport Adaptat | FCEDF - ECPv5.1.2.1//NONSGML v1.0//EN
CALSCALE:GREGORIAN
METHOD:PUBLISH
X-WR-CALNAME:Esport Adaptat | FCEDF
X-ORIGINAL-URL:https://esportadaptat.org
X-WR-CALDESC:Events for Esport Adaptat | FCEDF
BEGIN:VTIMEZONE
TZID:UTC
BEGIN:STANDARD
TZOFFSETFROM:+0000
TZOFFSETTO:+0000
TZNAME:UTC
DTSTART:20250101T000000
END:STANDARD
END:VTIMEZONE
BEGIN:VEVENT
DTSTART;TZID=UTC:20251109T153000
DTEND;TZID=UTC:20251109T170000
DTSTAMP:20260422T043236
CREATED:20251104T080343Z
LAST-MODIFIED:20251104T080343Z
UID:19538-1762702200-1762707600@esportadaptat.org
SUMMARY:Jornada 2. Lliga Catalana Danfoss de Waterpolo Adaptat
DESCRIPTION:CN Barcelona –  CN Terrassa \n
URL:https://esportadaptat.org/calendari/jornada-2-lliga-catalana-danfoss-de-waterpolo-adaptat/
END:VEVENT
END:VCALENDAR