BEGIN:VCALENDAR
VERSION:2.0
PRODID:-//Esport Adaptat | FCEDF - ECPv5.1.2.1//NONSGML v1.0//EN
CALSCALE:GREGORIAN
METHOD:PUBLISH
X-WR-CALNAME:Esport Adaptat | FCEDF
X-ORIGINAL-URL:https://esportadaptat.org
X-WR-CALDESC:Events for Esport Adaptat | FCEDF
BEGIN:VTIMEZONE
TZID:UTC
BEGIN:STANDARD
TZOFFSETFROM:+0000
TZOFFSETTO:+0000
TZNAME:UTC
DTSTART:20250101T000000
END:STANDARD
END:VTIMEZONE
BEGIN:VEVENT
DTSTART;TZID=UTC:20251108T190000
DTEND;TZID=UTC:20251108T203000
DTSTAMP:20260422T074342
CREATED:20251104T080150Z
LAST-MODIFIED:20251104T080150Z
UID:19536-1762628400-1762633800@esportadaptat.org
SUMMARY:Jornada 1. Lliga Catalana Danfoss de Waterpolo Adaptat
DESCRIPTION:CN Sabadell – CN Barcelona \n
URL:https://esportadaptat.org/calendari/jornada-1-lliga-catalana-danfoss-de-waterpolo-adaptat/
CATEGORIES:Waterpolo
END:VEVENT
END:VCALENDAR