BEGIN:VCALENDAR
VERSION:2.0
PRODID:-//Esport Adaptat | FCEDF - ECPv5.1.2.1//NONSGML v1.0//EN
CALSCALE:GREGORIAN
METHOD:PUBLISH
X-WR-CALNAME:Esport Adaptat | FCEDF
X-ORIGINAL-URL:https://esportadaptat.org
X-WR-CALDESC:Events for Esport Adaptat | FCEDF
BEGIN:VTIMEZONE
TZID:UTC
BEGIN:STANDARD
TZOFFSETFROM:+0000
TZOFFSETTO:+0000
TZNAME:UTC
DTSTART:20210101T000000
END:STANDARD
END:VTIMEZONE
BEGIN:VEVENT
DTSTART;TZID=UTC:20211118T190000
DTEND;TZID=UTC:20211118T190000
DTSTAMP:20260424T132122
CREATED:20211111T111243Z
LAST-MODIFIED:20211111T111243Z
UID:16271-1637262000-1637262000@esportadaptat.org
SUMMARY:Gala Premis 12-N
DESCRIPTION: \n
URL:https://esportadaptat.org/calendari/gala-premis-12-n/
ORGANIZER;CN="FCEDF":MAILTO:info@esportadaptat.cat
END:VEVENT
END:VCALENDAR