BEGIN:VCALENDAR
VERSION:2.0
PRODID:-//Esport Adaptat | FCEDF - ECPv5.1.2.1//NONSGML v1.0//EN
CALSCALE:GREGORIAN
METHOD:PUBLISH
X-WR-CALNAME:Esport Adaptat | FCEDF
X-ORIGINAL-URL:https://esportadaptat.org
X-WR-CALDESC:Events for Esport Adaptat | FCEDF
BEGIN:VTIMEZONE
TZID:UTC
BEGIN:STANDARD
TZOFFSETFROM:+0000
TZOFFSETTO:+0000
TZNAME:UTC
DTSTART:20240101T000000
END:STANDARD
END:VTIMEZONE
BEGIN:VEVENT
DTSTART;TZID=UTC:20240127T080000
DTEND;TZID=UTC:20240128T170000
DTSTAMP:20260423T181921
CREATED:20240110T082553Z
LAST-MODIFIED:20240110T082614Z
UID:18020-1706342400-1706461200@esportadaptat.org
SUMMARY:NAT - Ct. d'Espanya AXA de Joves
DESCRIPTION:
URL:https://esportadaptat.org/calendari/ct-despanya-axa-de-joves/
LOCATION:Valdemoro\, Madrid
END:VEVENT
END:VCALENDAR