BEGIN:VCALENDAR
VERSION:2.0
PRODID:-//Esport Adaptat | FCEDF - ECPv5.1.2.1//NONSGML v1.0//EN
CALSCALE:GREGORIAN
METHOD:PUBLISH
X-WR-CALNAME:Esport Adaptat | FCEDF
X-ORIGINAL-URL:https://esportadaptat.org
X-WR-CALDESC:Events for Esport Adaptat | FCEDF
BEGIN:VTIMEZONE
TZID:UTC
BEGIN:STANDARD
TZOFFSETFROM:+0000
TZOFFSETTO:+0000
TZNAME:UTC
DTSTART:20250101T000000
END:STANDARD
END:VTIMEZONE
BEGIN:VEVENT
DTSTART;TZID=UTC:20250517T100000
DTEND;TZID=UTC:20250518T133000
DTSTAMP:20260422T014404
CREATED:20250504T082426Z
LAST-MODIFIED:20250504T082426Z
UID:19098-1747476000-1747575000@esportadaptat.org
SUMMARY:Campionat d'Espanya per CCAA d'HCRE
DESCRIPTION:Campionat d’Espanya per CCAA d’HCRE amb la participació de la Selecció Catalana \n
URL:https://esportadaptat.org/calendari/campionat-despanya-per-ccaa-dhcre/
CATEGORIES:Hoquei cadira de rodes
ATTACH;FMTTYPE=image/jpeg:https://esportadaptat.org/wp-content/uploads/2022/07/20220704-hcre.jpg
END:VEVENT
END:VCALENDAR