BEGIN:VCALENDAR
VERSION:2.0
PRODID:-//Esport Adaptat | FCEDF - ECPv5.1.2.1//NONSGML v1.0//EN
CALSCALE:GREGORIAN
METHOD:PUBLISH
X-WR-CALNAME:Esport Adaptat | FCEDF
X-ORIGINAL-URL:https://esportadaptat.org
X-WR-CALDESC:Events for Esport Adaptat | FCEDF
BEGIN:VTIMEZONE
TZID:UTC
BEGIN:STANDARD
TZOFFSETFROM:+0000
TZOFFSETTO:+0000
TZNAME:UTC
DTSTART:20250101T000000
END:STANDARD
END:VTIMEZONE
BEGIN:VEVENT
DTSTART;TZID=UTC:20250510T100000
DTEND;TZID=UTC:20250510T123000
DTSTAMP:20260422T014242
CREATED:20250508T071327Z
LAST-MODIFIED:20250508T071327Z
UID:19127-1746871200-1746880200@esportadaptat.org
SUMMARY:1a Jornada de la Lliga R3 d’hoquei en cadira de rodes elèctrica
DESCRIPTION:1a Jornada de la Lliga R3 d’hoquei en cadira de rodes elèctrica a l’INEFC de Barcelona \n
URL:https://esportadaptat.org/calendari/1a-jornada-de-la-lliga-r3-dhoquei-en-cadira-de-rodes-electrica/
LOCATION:INEFC Barcelona\, Avinguda de l'Estadi\, 14\,\, Barcelona\, Barcelona\, 08038\, Espanya
CATEGORIES:Hoquei cadira de rodes
ATTACH;FMTTYPE=image/jpeg:https://esportadaptat.org/wp-content/uploads/2023/11/20231118-hcre.jpg
ORGANIZER;CN="FCEDF":MAILTO:info@esportadaptat.cat
END:VEVENT
END:VCALENDAR