BEGIN:VCALENDAR
VERSION:2.0
PRODID:-//Esport Adaptat | FCEDF - ECPv5.1.2.1//NONSGML v1.0//EN
CALSCALE:GREGORIAN
METHOD:PUBLISH
X-WR-CALNAME:Esport Adaptat | FCEDF
X-ORIGINAL-URL:https://esportadaptat.org
X-WR-CALDESC:Events for Esport Adaptat | FCEDF
BEGIN:VTIMEZONE
TZID:UTC
BEGIN:STANDARD
TZOFFSETFROM:+0000
TZOFFSETTO:+0000
TZNAME:UTC
DTSTART:20200101T000000
END:STANDARD
END:VTIMEZONE
BEGIN:VEVENT
DTSTART;TZID=UTC:20200328T120000
DTEND;TZID=UTC:20200328T140000
DTSTAMP:20260426T034419
CREATED:20190206T083553Z
LAST-MODIFIED:20191122T094547Z
UID:13912-1585396800-1585404000@esportadaptat.org
SUMMARY:6a JORNADA LLIGA CATALANA HOQUEI CRE: ADB vs DRACS SENIOR
DESCRIPTION:6a JORNADA (partit 2): \nADB Barberà vs Dracs CEA Sènior Team \n
URL:https://esportadaptat.org/calendari/6a-jornada-lliga-catalana-hoquei-cre-adb-vs-dracs-black/
LOCATION:Instal·lació Esportiva Municipal Maria Reverter\, C/ Maria Reverter\, 88\, Barberà del Vallès\, Barcelona\, 08210\, Espanya
CATEGORIES:Hoquei cadira de rodes
ORGANIZER;CN="FCEDF":MAILTO:info@esportadaptat.cat
END:VEVENT
END:VCALENDAR