BEGIN:VCALENDAR
VERSION:2.0
PRODID:-//Esport Adaptat | FCEDF - ECPv5.1.2.1//NONSGML v1.0//EN
CALSCALE:GREGORIAN
METHOD:PUBLISH
X-WR-CALNAME:Esport Adaptat | FCEDF
X-ORIGINAL-URL:https://esportadaptat.org
X-WR-CALDESC:Events for Esport Adaptat | FCEDF
BEGIN:VTIMEZONE
TZID:UTC
BEGIN:STANDARD
TZOFFSETFROM:+0000
TZOFFSETTO:+0000
TZNAME:UTC
DTSTART:20200101T000000
END:STANDARD
END:VTIMEZONE
BEGIN:VEVENT
DTSTART;TZID=UTC:20200307T120000
DTEND;TZID=UTC:20200307T120000
DTSTAMP:20260426T034405
CREATED:20190206T082949Z
LAST-MODIFIED:20191122T094155Z
UID:13908-1583582400-1583582400@esportadaptat.org
SUMMARY:5a JORNADA LLIGA CATALANA HOQUEI CRE: COMKEDEM vs ADB
DESCRIPTION:5a JORNADA (partit 2): \nComkedem vs ADB Barberà \n
URL:https://esportadaptat.org/calendari/5a-jornada-lliga-catalana-hoquei-cre-comkedem-vs-adb/
LOCATION:INEFC Barcelona\, Avinguda de l'Estadi\, 14\,\, Barcelona\, Barcelona\, 08038\, Espanya
CATEGORIES:Hoquei cadira de rodes
ORGANIZER;CN="FCEDF":MAILTO:info@esportadaptat.cat
END:VEVENT
END:VCALENDAR