BEGIN:VCALENDAR
VERSION:2.0
PRODID:-//Esport Adaptat | FCEDF - ECPv5.1.2.1//NONSGML v1.0//EN
CALSCALE:GREGORIAN
METHOD:PUBLISH
X-WR-CALNAME:Esport Adaptat | FCEDF
X-ORIGINAL-URL:https://esportadaptat.org
X-WR-CALDESC:Events for Esport Adaptat | FCEDF
BEGIN:VTIMEZONE
TZID:UTC
BEGIN:STANDARD
TZOFFSETFROM:+0000
TZOFFSETTO:+0000
TZNAME:UTC
DTSTART:20160101T000000
END:STANDARD
END:VTIMEZONE
BEGIN:VEVENT
DTSTART;VALUE=DATE:20160910
DTEND;VALUE=DATE:20160911
DTSTAMP:20260420T072212
CREATED:20160726T155839Z
LAST-MODIFIED:20160726T155839Z
UID:10119-1473465600-1473551999@esportadaptat.org
SUMMARY:Activitat 3x3
DESCRIPTION:Activitat de promoció del bàsquet 3×3 \n
URL:https://esportadaptat.org/calendari/activitat-3x3/
LOCATION:Marineland
CATEGORIES:Promoció
ATTACH;FMTTYPE=image/jpeg:https://esportadaptat.org/wp-content/uploads/2016/07/2015.9.6-promocio.jpg
END:VEVENT
END:VCALENDAR