BEGIN:VCALENDAR
VERSION:2.0
PRODID:-//Esport Adaptat | FCEDF - ECPv5.1.2.1//NONSGML v1.0//EN
CALSCALE:GREGORIAN
METHOD:PUBLISH
X-WR-CALNAME:Esport Adaptat | FCEDF
X-ORIGINAL-URL:https://esportadaptat.org
X-WR-CALDESC:Events for Esport Adaptat | FCEDF
BEGIN:VTIMEZONE
TZID:UTC
BEGIN:STANDARD
TZOFFSETFROM:+0000
TZOFFSETTO:+0000
TZNAME:UTC
DTSTART:20250101T000000
END:STANDARD
END:VTIMEZONE
BEGIN:VEVENT
DTSTART;TZID=UTC:20250301T090000
DTEND;TZID=UTC:20250301T133000
DTSTAMP:20260422T092837
CREATED:20241210T101112Z
LAST-MODIFIED:20250228T104334Z
UID:18702-1740819600-1740835800@esportadaptat.org
SUMMARY:6a Jornada de la Lliga Catalana de petanca inclusiva
DESCRIPTION:6a Jornada de la Lliga Catalana de petanca inclusiva a les instal.lacions del Club Petanca Trafalgar\nCarrer Antiga de València\, 86 – 08913 Badalona \n\n	\n		\n			\n						\n\n		\n	\n			\n			\n				\n					\n				\n			\n		\n	\n#wpv-expandable-b12012aa17f0e6d38a1dca74dcae2f9f .open{background:#fc3c2a;}#wpv-expandable-b12012aa17f0e6d38a1dca74dcae2f9f .open\,#wpv-expandable-b12012aa17f0e6d38a1dca74dcae2f9f .open p\,#wpv-expandable-b12012aa17f0e6d38a1dca74dcae2f9f .open .sep-text h2.regular-title-wrapper\,#wpv-expandable-b12012aa17f0e6d38a1dca74dcae2f9f .open .text-divider-double\,#wpv-expandable-b12012aa17f0e6d38a1dca74dcae2f9f .open .sep-text .sep-text-line\,#wpv-expandable-b12012aa17f0e6d38a1dca74dcae2f9f .open .sep\,#wpv-expandable-b12012aa17f0e6d38a1dca74dcae2f9f .open .sep-2\,#wpv-expandable-b12012aa17f0e6d38a1dca74dcae2f9f .open .sep-3\,#wpv-expandable-b12012aa17f0e6d38a1dca74dcae2f9f .open h1\,#wpv-expandable-b12012aa17f0e6d38a1dca74dcae2f9f .open h2\,#wpv-expandable-b12012aa17f0e6d38a1dca74dcae2f9f .open h3\,#wpv-expandable-b12012aa17f0e6d38a1dca74dcae2f9f .open h4\,#wpv-expandable-b12012aa17f0e6d38a1dca74dcae2f9f .open h5\,#wpv-expandable-b12012aa17f0e6d38a1dca74dcae2f9f .open h6\,#wpv-expandable-b12012aa17f0e6d38a1dca74dcae2f9f .open td\,#wpv-expandable-b12012aa17f0e6d38a1dca74dcae2f9f .open th\,#wpv-expandable-b12012aa17f0e6d38a1dca74dcae2f9f .open caption{color:#fff;}\n\n\n	\n		\n			\n						\n\n		\n	\n			\n			\n				\n					\n				\n			\n		\n	\n#wpv-expandable-47f8a0af351d95686616706133cf0044 .open{background:#fc3c2a;}#wpv-expandable-47f8a0af351d95686616706133cf0044 .open\,#wpv-expandable-47f8a0af351d95686616706133cf0044 .open p\,#wpv-expandable-47f8a0af351d95686616706133cf0044 .open .sep-text h2.regular-title-wrapper\,#wpv-expandable-47f8a0af351d95686616706133cf0044 .open .text-divider-double\,#wpv-expandable-47f8a0af351d95686616706133cf0044 .open .sep-text .sep-text-line\,#wpv-expandable-47f8a0af351d95686616706133cf0044 .open .sep\,#wpv-expandable-47f8a0af351d95686616706133cf0044 .open .sep-2\,#wpv-expandable-47f8a0af351d95686616706133cf0044 .open .sep-3\,#wpv-expandable-47f8a0af351d95686616706133cf0044 .open h1\,#wpv-expandable-47f8a0af351d95686616706133cf0044 .open h2\,#wpv-expandable-47f8a0af351d95686616706133cf0044 .open h3\,#wpv-expandable-47f8a0af351d95686616706133cf0044 .open h4\,#wpv-expandable-47f8a0af351d95686616706133cf0044 .open h5\,#wpv-expandable-47f8a0af351d95686616706133cf0044 .open h6\,#wpv-expandable-47f8a0af351d95686616706133cf0044 .open td\,#wpv-expandable-47f8a0af351d95686616706133cf0044 .open th\,#wpv-expandable-47f8a0af351d95686616706133cf0044 .open caption{color:#fff;}\n\n
URL:https://esportadaptat.org/calendari/6a-jornada-de-la-lliga-catalana-de-petanca-inclusiva/
CATEGORIES:Petanca
ATTACH;FMTTYPE=image/jpeg:https://esportadaptat.org/wp-content/uploads/2022/06/20220611-petanca.jpeg
ORGANIZER;CN="FCEDF":MAILTO:info@esportadaptat.cat
END:VEVENT
END:VCALENDAR