BEGIN:VCALENDAR
VERSION:2.0
PRODID:-//Esport Adaptat | FCEDF - ECPv5.1.2.1//NONSGML v1.0//EN
CALSCALE:GREGORIAN
METHOD:PUBLISH
X-WR-CALNAME:Esport Adaptat | FCEDF
X-ORIGINAL-URL:https://esportadaptat.org
X-WR-CALDESC:Events for Esport Adaptat | FCEDF
BEGIN:VTIMEZONE
TZID:UTC
BEGIN:STANDARD
TZOFFSETFROM:+0000
TZOFFSETTO:+0000
TZNAME:UTC
DTSTART:20190101T000000
END:STANDARD
END:VTIMEZONE
BEGIN:VEVENT
DTSTART;TZID=UTC:20191117T120000
DTEND;TZID=UTC:20191117T140000
DTSTAMP:20260419T220055
CREATED:20191025T080235Z
LAST-MODIFIED:20191025T080320Z
UID:14528-1573992000-1573999200@esportadaptat.org
SUMMARY:5ª JORNADA DE LLIGA BCR: CB GRANOLLERS - BAMESAD
DESCRIPTION:CB GRANOLLERS – BAMESAD \n
URL:https://esportadaptat.org/calendari/5a-jornada-de-lliga-bcr-cb-granollers-bamesad/
CATEGORIES:Bàsquet
END:VEVENT
END:VCALENDAR