BEGIN:VCALENDAR
VERSION:2.0
PRODID:-//Esport Adaptat | FCEDF - ECPv5.1.2.1//NONSGML v1.0//EN
CALSCALE:GREGORIAN
METHOD:PUBLISH
X-WR-CALNAME:Esport Adaptat | FCEDF
X-ORIGINAL-URL:https://esportadaptat.org
X-WR-CALDESC:Events for Esport Adaptat | FCEDF
BEGIN:VTIMEZONE
TZID:UTC
BEGIN:STANDARD
TZOFFSETFROM:+0000
TZOFFSETTO:+0000
TZNAME:UTC
DTSTART:20190101T000000
END:STANDARD
END:VTIMEZONE
BEGIN:VEVENT
DTSTART;VALUE=DATE:20190511
DTEND;VALUE=DATE:20190513
DTSTAMP:20260424T143550
CREATED:20181218T083530Z
LAST-MODIFIED:20181218T083530Z
UID:13781-1557532800-1557705599@esportadaptat.org
SUMMARY:4RT TROFEU INTERNACIONAL DE NATACIÓ ADAPTADA – GRAN PREMI DIPUTACIÓ DE BARCELONA
DESCRIPTION:
URL:https://esportadaptat.org/calendari/4rt-trofeu-internacional-de-natacio-adaptada-gran-premi-diputacio-de-barcelona/
LOCATION:CN Barcelona\, Passeig de Joan de Borbó\, 93\, Barcelona\, Barcelona\, 08039\, Espanya
CATEGORIES:Natació
END:VEVENT
END:VCALENDAR