BEGIN:VCALENDAR
VERSION:2.0
PRODID:-//Esport Adaptat | FCEDF - ECPv5.1.2.1//NONSGML v1.0//EN
CALSCALE:GREGORIAN
METHOD:PUBLISH
X-WR-CALNAME:Esport Adaptat | FCEDF
X-ORIGINAL-URL:https://esportadaptat.org
X-WR-CALDESC:Events for Esport Adaptat | FCEDF
BEGIN:VTIMEZONE
TZID:UTC
BEGIN:STANDARD
TZOFFSETFROM:+0000
TZOFFSETTO:+0000
TZNAME:UTC
DTSTART:20190101T000000
END:STANDARD
END:VTIMEZONE
BEGIN:VEVENT
DTSTART;TZID=UTC:20191110T090000
DTEND;TZID=UTC:20191110T230000
DTSTAMP:20260419T220122
CREATED:20191025T074559Z
LAST-MODIFIED:20191025T074559Z
UID:14519-1573376400-1573426800@esportadaptat.org
SUMMARY:4ª JORNADA DE LLIGA BCR: VALIDA SIN BARRERAS CB MIFAS B - CB GRANOLLERS
DESCRIPTION:CB MIFAS B – CB GRANOLLERS \n
URL:https://esportadaptat.org/calendari/4a-jornada-de-lliga-bcr-valida-sin-barreras-cb-mifas-b-cb-granollers/
LOCATION:Pavelló Municipal Sant Gregori\, Plaça Rafel Masó S/N\, Girona\, Girona\, 17150
END:VEVENT
END:VCALENDAR