BEGIN:VCALENDAR
VERSION:2.0
PRODID:-//Esport Adaptat | FCEDF - ECPv5.1.2.1//NONSGML v1.0//EN
CALSCALE:GREGORIAN
METHOD:PUBLISH
X-WR-CALNAME:Esport Adaptat | FCEDF
X-ORIGINAL-URL:https://esportadaptat.org
X-WR-CALDESC:Events for Esport Adaptat | FCEDF
BEGIN:VTIMEZONE
TZID:UTC
BEGIN:STANDARD
TZOFFSETFROM:+0000
TZOFFSETTO:+0000
TZNAME:UTC
DTSTART:20210101T000000
END:STANDARD
END:VTIMEZONE
BEGIN:VEVENT
DTSTART;TZID=UTC:20211128T090000
DTEND;TZID=UTC:20211128T120000
DTSTAMP:20260424T161025
CREATED:20211028T120722Z
LAST-MODIFIED:20211028T120722Z
UID:16239-1638090000-1638100800@esportadaptat.org
SUMMARY:1a Jornada Lliga Catalana de Natació Adaptada - CN Mataró
DESCRIPTION: \n
URL:https://esportadaptat.org/calendari/1a-jornada-lliga-catalana-de-natacio-adaptada-cn-mataro/
LOCATION:Centre Natació Mataró\, Passeig Marítim\, 92\, Mataró
ORGANIZER;CN="FCEDF":MAILTO:info@esportadaptat.cat
END:VEVENT
END:VCALENDAR