BEGIN:VCALENDAR
VERSION:2.0
PRODID:-//Esport Adaptat | FCEDF - ECPv5.1.2.1//NONSGML v1.0//EN
CALSCALE:GREGORIAN
METHOD:PUBLISH
X-WR-CALNAME:Esport Adaptat | FCEDF
X-ORIGINAL-URL:https://esportadaptat.org
X-WR-CALDESC:Events for Esport Adaptat | FCEDF
BEGIN:VTIMEZONE
TZID:UTC
BEGIN:STANDARD
TZOFFSETFROM:+0000
TZOFFSETTO:+0000
TZNAME:UTC
DTSTART:20230101T000000
END:STANDARD
END:VTIMEZONE
BEGIN:VEVENT
DTSTART;TZID=UTC:20230915T170000
DTEND;TZID=UTC:20230915T200000
DTSTAMP:20260424T040703
CREATED:20230909T062128Z
LAST-MODIFIED:20230909T062128Z
UID:17817-1694797200-1694808000@esportadaptat.org
SUMMARY:1a Jornada Inclusiva a Reus
DESCRIPTION:El divendres 15 de setembre La ciutat de Reus acollirà per primera vegada una Jornada Inclusiva de mostra d’esports adaptats. La jornada està organitzada per les regidories de Benestar de l’Ajuntament de Reus\, Reus Esport\, la Federació Catalana d’Esport Adaptat i diverses entitats que formen part del Consell Municipal de la Discapacitat \nLa jornada inclusiva es portarà a terme a la plaça de la Llibertat de Reus\, la tarda del divendres de 17 a 20:00h. La finalitat principal de l’activitat és que tota la població pugui veure\, provar i gaudir amb l’esport adaptat i conèixer diferents modalitats esportives. Els participants podran provar les diferents estacions esportives i practicar totes les que vulguin. \n
URL:https://esportadaptat.org/calendari/1a-jornada-inclusiva-a-reus/
LOCATION:Pl. LLibertat\, Reus\, Plaça Llibertat\, Reus
CATEGORIES:Jornada Inclusiva Reus,Promoció
ATTACH;FMTTYPE=image/jpeg:https://esportadaptat.org/wp-content/uploads/2023/09/20230906-cartellreus.jpeg
ORGANIZER;CN="FCEDF":MAILTO:info@esportadaptat.cat
END:VEVENT
END:VCALENDAR