BEGIN:VCALENDAR
VERSION:2.0
PRODID:-//Esport Adaptat | FCEDF - ECPv5.1.2.1//NONSGML v1.0//EN
CALSCALE:GREGORIAN
METHOD:PUBLISH
X-WR-CALNAME:Esport Adaptat | FCEDF
X-ORIGINAL-URL:https://esportadaptat.org
X-WR-CALDESC:Events for Esport Adaptat | FCEDF
BEGIN:VTIMEZONE
TZID:UTC
BEGIN:STANDARD
TZOFFSETFROM:+0000
TZOFFSETTO:+0000
TZNAME:UTC
DTSTART:20240101T000000
END:STANDARD
END:VTIMEZONE
BEGIN:VEVENT
DTSTART;TZID=UTC:20241110T090000
DTEND;TZID=UTC:20241110T190000
DTSTAMP:20260421T082625
CREATED:20241024T065514Z
LAST-MODIFIED:20241024T065514Z
UID:18608-1731229200-1731265200@esportadaptat.org
SUMMARY:1a Jornada de la Lliga Catalana de BCR N2
DESCRIPTION:CB GRANOLLERS vs CORPORACIÓ FISIOGESTIÓN CB ROSER\nCB MIFAS vs SHAD CB MOLLET \n
URL:https://esportadaptat.org/calendari/1a-jornada-de-la-lliga-catalana-de-bcr-n2/
CATEGORIES:Bàsquet
ATTACH;FMTTYPE=image/jpeg:https://esportadaptat.org/wp-content/uploads/2024/02/20240204-bcr.jpg
ORGANIZER;CN="FCEDF":MAILTO:info@esportadaptat.cat
END:VEVENT
END:VCALENDAR