BEGIN:VCALENDAR
VERSION:2.0
PRODID:-//Esport Adaptat | FCEDF - ECPv5.1.2.1//NONSGML v1.0//EN
CALSCALE:GREGORIAN
METHOD:PUBLISH
X-WR-CALNAME:Esport Adaptat | FCEDF
X-ORIGINAL-URL:https://esportadaptat.org
X-WR-CALDESC:Events for Esport Adaptat | FCEDF
BEGIN:VTIMEZONE
TZID:UTC
BEGIN:STANDARD
TZOFFSETFROM:+0000
TZOFFSETTO:+0000
TZNAME:UTC
DTSTART:20250101T000000
END:STANDARD
END:VTIMEZONE
BEGIN:VEVENT
DTSTART;TZID=UTC:20251123T100000
DTEND;TZID=UTC:20251123T140000
DTSTAMP:20260421T213718
CREATED:20251105T101731Z
LAST-MODIFIED:20251105T101731Z
UID:19555-1763892000-1763906400@esportadaptat.org
SUMMARY:1a i 3a jornada LLIGA CATALANA DANFOSS WATERPOLO ADAPTAT 25-26
DESCRIPTION:10:15h 23/11/2025 CN TERRASSA – – UE HORTA\n12:45h 23/11/2025 CN SABADELL – – CN TERRASSA \n
URL:https://esportadaptat.org/calendari/1a-i-3a-jornada-lliga-catalana-danfoss-waterpolo-adaptat-25-26/
CATEGORIES:Waterpolo
ATTACH;FMTTYPE=image/jpeg:https://esportadaptat.org/wp-content/uploads/2023/02/20230201-waterpolo.jpg
ORGANIZER;CN="FCEDF":MAILTO:info@esportadaptat.cat
END:VEVENT
END:VCALENDAR